BEGIN:VCALENDAR
VERSION:2.0
PRODID:spatie/icalendar-generator
NAME:Wakeland Baseball & Booster Calendar
X-WR-CALNAME:Wakeland Baseball & Booster Calendar
REFRESH-INTERVAL;VALUE=DURATION:PT30M
X-PUBLISHED-TTL:PT30M
BEGIN:VTIMEZONE
TZID:America/Chicago
BEGIN:STANDARD
DTSTART:20251102T010000
TZOFFSETFROM:-0500
TZOFFSETTO:-0600
END:STANDARD
BEGIN:DAYLIGHT
DTSTART:20260308T010000
TZOFFSETFROM:-0600
TZOFFSETTO:-0500
END:DAYLIGHT
END:VTIMEZONE
BEGIN:VTIMEZONE
TZID:UTC
BEGIN:STANDARD
DTSTART:20250727T131650
TZOFFSETFROM:+0000
TZOFFSETTO:+0000
END:STANDARD
END:VTIMEZONE
BEGIN:VEVENT
UID:event-733054@wakelandbaseball.boosterhub.com
DTSTAMP:20260423T131650Z
SUMMARY:Varsity vs The Colony (District)
DESCRIPTION:
LOCATION:Wakeland High School
DTSTART;TZID=America/Chicago:20260424T193000
DTEND;TZID=America/Chicago:20260424T213000
END:VEVENT
BEGIN:VEVENT
UID:event-824194@wakelandbaseball.boosterhub.com
DTSTAMP:20260423T131650Z
SUMMARY:JV vs The Colony (District)
DESCRIPTION:
LOCATION:Wakeland High School
DTSTART;TZID=America/Chicago:20260424T163000
DTEND;TZID=America/Chicago:20260424T183000
END:VEVENT
BEGIN:VEVENT
UID:event-824195@wakelandbaseball.boosterhub.com
DTSTAMP:20260423T131650Z
SUMMARY:JV2 vs The Colony (District)
DESCRIPTION:
LOCATION:Wakeland High School
DTSTART;TZID=America/Chicago:20260424T170000
DTEND;TZID=America/Chicago:20260424T190000
END:VEVENT
BEGIN:VEVENT
UID:event-824207@wakelandbaseball.boosterhub.com
DTSTAMP:20260423T131650Z
SUMMARY:Banquet
DESCRIPTION:
LOCATION:
DTSTART;TZID=America/Chicago:20260427T180000
DTEND;TZID=America/Chicago:20260427T213000
END:VEVENT
END:VCALENDAR